BEGIN:VCALENDAR
VERSION:2.0
PRODID:-//Larissa - Hoteliers Association - ECPv6.5.1.5//NONSGML v1.0//EN
CALSCALE:GREGORIAN
METHOD:PUBLISH
X-ORIGINAL-URL:https://hotels-larissa.gr
X-WR-CALDESC:Events for Larissa - Hoteliers Association
REFRESH-INTERVAL;VALUE=DURATION:PT1H
X-Robots-Tag:noindex
X-PUBLISHED-TTL:PT1H
BEGIN:VTIMEZONE
TZID:Europe/Moscow
BEGIN:STANDARD
TZOFFSETFROM:+0300
TZOFFSETTO:+0300
TZNAME:MSK
DTSTART:20240101T000000
END:STANDARD
END:VTIMEZONE
BEGIN:VEVENT
DTSTART;TZID=Europe/Moscow:20240803T210000
DTEND;TZID=Europe/Moscow:20240803T230000
DTSTAMP:20260425T163707
CREATED:20240802T111244Z
LAST-MODIFIED:20240802T111445Z
UID:10000018-1722718800-1722726000@hotels-larissa.gr
SUMMARY:“ΤΟΣΟ ΟΣΟ” - Stand up comedy με τον Ηλία Φουντούλη και Άγγελο Σπηλιόπουλο
DESCRIPTION:Όταν ο Άγγελος και ο Ηλίας γνωρίστηκαν\, ήταν Τρίτη απόγευμα και ψιλόβρεχε.  \nΕνώθηκαν με τα ανίερα δεσμά των λογοπαιγνίων το 2020\, έφτιαξαν την παράσταση Double Impact που παίχτηκε 141 φορές σε Ελλάδα και Ευρώπη. Αποφάσισαν να συνεχίσουν μαζί σε ένα ακόμα double bill με τον τίτλο ΤΟΣΟ ΟΣΟ. \n  \nΗμερομηνία & ώρα: Σάββατο 3 Αυγούστου 2024\, 21:00 – 23:00 \nΤοποθεσία: Θέατρο Πλατάνια\, Βελίκα 
URL:https://hotels-larissa.gr/event/toso-oso-stand-up-comedy-me-ton-ilia-fountouli-kai-angelos-spiliopoulo/
LOCATION:Θέατρο Πλατάνια\, Βελίκα\, 400 03\, Ελλάδα
CATEGORIES:Stand up comedy
ATTACH;FMTTYPE=image/jpeg:https://hotels-larissa.gr/wp-content/uploads/2024/08/ΦΟΥΝΤΟΥΛΗΣ-ΣΠΗΛΙΟΠΟΥΛΟΣ-φωτο.jpg
END:VEVENT
END:VCALENDAR