BEGIN:VCALENDAR
VERSION:2.0
PRODID:-//Larissa - Hoteliers Association - ECPv6.5.1.5//NONSGML v1.0//EN
CALSCALE:GREGORIAN
METHOD:PUBLISH
X-ORIGINAL-URL:https://hotels-larissa.gr
X-WR-CALDESC:Events for Larissa - Hoteliers Association
REFRESH-INTERVAL;VALUE=DURATION:PT1H
X-Robots-Tag:noindex
X-PUBLISHED-TTL:PT1H
BEGIN:VTIMEZONE
TZID:Europe/Moscow
BEGIN:STANDARD
TZOFFSETFROM:+0300
TZOFFSETTO:+0300
TZNAME:MSK
DTSTART:20240101T000000
END:STANDARD
END:VTIMEZONE
BEGIN:VEVENT
DTSTART;TZID=Europe/Moscow:20240915T203000
DTEND;TZID=Europe/Moscow:20240915T223000
DTSTAMP:20260425T164119
CREATED:20240909T143639Z
LAST-MODIFIED:20240909T143639Z
UID:10000023-1726432200-1726439400@hotels-larissa.gr
SUMMARY:“Πάμε μια βόλτα στο φεγγάρι…” - Συναυλία με μουσική και τραγούδια του Μάνου Χατζιδάκι
DESCRIPTION:Με μουσική και τραγούδια του Μάνου Χατζηδάκι θα γεμίσει την Κυριακή 15 Σεπτεμβρίου το κηποθέατρο «Αλκαζάρ». “Πάμε βόλτα στο φεγγάρι…” είναι ο τίτλος της εκδήλωσης που διοργανώνουν η Αντιδημαρχία Πολιτισμού του Δήμου Λαρισαίων και το Δημοτικό Ωδείο Λάρισας\, στις 8:30 το βράδυ. \nΟ Μάνος Χατζιδάκις\, ο «Μεγάλος ερωτικός» της ελληνικής μουσικής\, που πριν 30 χρόνια ξεκίνησε για το μεγάλο του «ταξίδι προς τα άστρα»\, θεωρείται ο πρώτος που με το συνθετικό του έργο συνέδεσε μεταπολεμικά\, τη λόγια μουσική με τη λαϊκή μουσική παράδοση. Στη συναυλία θα παρουσιαστούν τραγούδια από “κύκλους τραγουδιών”\, καθώς και τραγούδια και ορχηστρικά θέματα που γράφτηκαν για το θέατρο και τον κινηματογράφο. \nΠαίρνουν μέρος η Μικτή Χορωδία του ΔΩΛ\, γνωστή στο κοινό της πόλης μας με τις πολλές και σημαντικές εμφανίσεις της και το Μουσικό Σύνολο «Ενωδεία» που το αποτελούν οι εξαίρετοι Λαρισαίοι μουσικοί: Ιωάννα Σιοπούδη (Πιάνο)\, Γιώργος Τσιαρδάκας (Φλάουτο)\, Μιχάλης Σαμπάνης (Κλαρινέτο)\, Φαίδρα Καρβούνη (Σαξόφωνο)\, Έφη Μηνά (Κόρνο)\, Χάιδω Ευθυμίου (Ακορντεόν)\, Βαγγέλης Τσιαπλές (Μαντολίνο)\, Σπύρος Καβαλλιεράτος & Θανάσης Καλαμπάκας (Κιθάρες)\, Ευδοκία Χώτα (Βιολί)\, Νίκος Νικολαΐδης (Τσέλο)\, Νάνση Χατζή (Κοντραμπάσο) και Γιάννης Μακρυγιάννης (Κρουστά). Συμμετέχουν οι τραγουδιστές Αντωνία Βισβίκη\, Γιώργος Γάλλος και Ευλαμπία Ντούλα. Διευθύνει ο Δημήτρης Καρβούνης\, ο οποίος έκανε και την ενορχήστρωση των τραγουδιών της συναυλίας και ο οποίος είχε τη μεγάλη τιμή να χαίρει της εκτίμησης του μεγάλου μας συνθέτη. Η αφίσα της συναυλίας είναι δημιουργία του Δημήτρη Λαπούση. \nΌλοι οι συντελεστές της συναυλίας\, που αγαπούν ιδιαίτερα το Μάνο Χατζιδάκι και την υπέροχη μουσική του\, υπόσχονται να δώσουν τον καλύτερο εαυτό τους και να χαρίσουν στο κοινό της πόλης μας μια υπέροχη βραδιά πλημμυρισμένη απ’ τις μελωδίες του μεγάλου μας συνθέτη. \nΗ άδεια εκτέλεσης των έργων του Μάνου Χατζιδάκι\, παραχωρήθηκε ευγενικά από τον κ. Γιώργο Χατζιδάκι. \nΤιμή εισιτηρίου 12 €\, μειωμένο 8 €   \nΠροπώληση εισιτηρίων πραγματοποιείται στο Δημοτικό Ωδείο Λάρισας (2ος όροφος)\, Δευτέρα έως Παρασκευή και ώρες 10.00πμ – 13.00 και το Σάββατο 14 Σεπτεμβρίου από 11.00πμ έως 14.00  \n  \nΗμερομηνία και ώρα: Κυριακή 15 Σεπτεμβρίου\, 20:00 \nΤοποθεσία: Κηποθέατρο «Αλκαζάρ» \n 
URL:https://hotels-larissa.gr/event/pame-mia-volta-sto-fengari-synavlia-me-mousiki-kai-tragoudia-tou-manou-chatzidaki-2/
LOCATION:Κηποθέατρο Αλκαζάρ\, Κηποθέατρο Αλκαζάρ\, Λάρισα\, Θεσσαλία\, 41447\, Ελλάδα
CATEGORIES:Συναυλίες
ATTACH;FMTTYPE=image/jpeg:https://hotels-larissa.gr/wp-content/uploads/2024/09/XATZIDAKIS-scaled.jpg
END:VEVENT
BEGIN:VEVENT
DTSTART;TZID=Europe/Moscow:20240923T200000
DTEND;TZID=Europe/Moscow:20240923T220000
DTSTAMP:20260425T164119
CREATED:20240920T075250Z
LAST-MODIFIED:20240920T075448Z
UID:10000041-1727121600-1727128800@hotels-larissa.gr
SUMMARY:Παζάρι Λάρισας - Πάμε παζάρι με τη Γλυκερία από τη Δευτέρα 23 Σεπτεμβρίου
DESCRIPTION:Με τη Γλυκερία ανοίγει φέτος το παζάρι Λάρισας \nΠάμε παζάρι από τη Δευτέρα 23 Σεπτεμβρίου  \n  \nΜε την υπέροχη φωνή της Γλυκερίας θα γίνει η έναρξη του φετινού παζαριού της Λάρισας\, τη Δευτέρα 23 Σεπτεμβρίου 2024\, στις 8:00 το βράδυ στον χώρο που καταλάμβανε το λούνα-παρκ\, στη Σκεπαστή Αγορά της Νεάπολης. Μαζί της θα είναι ο ταλαντούχος τραγουδιστής Χρήστος Μακρής και πολυμελής ορχήστρα. \nΗ χαρισματική ερμηνεύτρια Γλυκερία\, που διακρίνεται για τη γνησιότητα\, τη ζεστασιά και την αυθεντική ψυχαγωγία που χαρίζει στο κοινό της\, παρουσιάζει ένα πρόγραμμα που επιμελείται ο Στέλιος Φωτιάδης\, με γνωστά τραγούδια λαïκά –έντεχνα –παραδοσιακά και όλες τις επιτυχίες της: «Μέχρι να βρούμε ουρανό»\, «Δεν έχω πολλά»\, «Ό\,τι αγαπώ είναι δικό σου»\, «Πάρε με απόψε πάρε με»\, «Η νύχτα μυρίζει γιασεμί»\, κ.ά. \nΕκτός όμως από τις μεγάλες επιτυχίες της\, παρουσιάζει ένα πρόγραμμα με τραγούδια μεγάλων Ελλήνων συνθετών\, όπως του Χρήστου Νικολόπουλου\, του Μάριου Τόκα\, του Σταύρου Ξαρχάκου\, του Μίκη Θεοδωράκη\, κ.ά. Στο πρόγραμμα περιλαμβάνεται και μία ενότητα με υπέροχα Σμυρνέικα τραγούδια\, όπως «Δημητρούλα»\, «Έχε γεια Παναγιά»\, «Τι σε μέλλει εσένανε»\, «Σ’ ́αγαπώ γιατί είσαι ωραία»\, κ.ά. \nΗ είσοδος για όλους είναι δωρεάν. \nΥπενθυμίζεται ότι η διοργάνωση της Εμποροπανήγυρης Λάρισας 2024 γίνεται\, φέτος\, υπό την εποπτεία του Δήμου Λαρισαίων. \n  \nΗμερομηνία και ώρα: Δευτέρα 23 Σεπτεμβρίου 2024\, 20:00 \nΤοποθεσία: Λούνα-παρκ\, Σκεπαστή Αγορά Νεάπολης
URL:https://hotels-larissa.gr/event/pazari-larisas-pame-pazari-me-ti-glykeria-apo-ti-deftera-23-septemvriou/
LOCATION:Σκεπαστή Αγορά Νεάπολης\, Λάρισα
CATEGORIES:Συναυλίες
ATTACH;FMTTYPE=image/png:https://hotels-larissa.gr/wp-content/uploads/2024/09/ΤΕΛΙΚΟ-ΠΑΖΑΡΙ-ΛΑΡΙΣΑΣ-2024-DIGITAL-POST-ΔΛ.png
END:VEVENT
BEGIN:VEVENT
DTSTART;TZID=Europe/Moscow:20240928T200000
DTEND;TZID=Europe/Moscow:20240928T220000
DTSTAMP:20260425T164119
CREATED:20240924T072734Z
LAST-MODIFIED:20240924T072752Z
UID:10000042-1727553600-1727560800@hotels-larissa.gr
SUMMARY:Μια σπάνια συναυλία στο Δημοτικό Ωδείο Λάρισας από τη Χορωδία των Υπαλλήλων της Boeing
DESCRIPTION:Μια μεγάλη στάση θα κάνει στη Λάρισα\, το ερχόμενο Σάββατο 28 Σεπτεμβρίου 2024 και ώρα 20.00 – Δημοτικό Ωδείο Λάρισας\, που θα γεμίσει μελωδίες από τη  Χορωδία των Υπαλλήλων της Boeing (Boeing Employees Choir)\, μια από τις κορυφαίες ερασιτεχνικές χορωδίες των Ηνωμένων Πολιτειών\, που  έρχεται για πρώτη φορά στην Ελλάδα\, για μια σειρά έξι συναυλιών και υπόσχονται να μαγέψουν το τυχερό κοινό\, που θα τις παρακολουθήσει\, με ελεύθερη είσοδο για όλους. \nΗ Χορωδία των Υπαλλήλων της Boeing\, με μια μακρά ιστορία που ξεπερνά τα 75 χρόνια\, έχει κατακτήσει διεθνή φήμη για τις εξαιρετικές της ερμηνείες και τις περιοδείες της σε όλο τον κόσμο. \nΑποτελούμενη κυρίως από εργαζομένους\, συνταξιούχους και μέλη των οικογενειών τους\, η χορωδία πραγματοποιεί περίπου είκοσι συναυλίες ετησίως με ρεπερτόριο που εκτείνεται από το Μπρόντγουεϊ μέχρι τον Μπαχ. \nΑρκετές συναυλίες κάθε σεζόν είναι αφιερωμένες σε επισκέψεις σε οίκους ευγηρίας και άλλα κοινωφελή ιδρύματα\, ενώ αναδεικνύουν  την κοινωνική αλληλεγγύη\, ως το υπέρτατο κοινωνικό αγαθό\, για τη στήριξη ευπαθών ομάδων  συμπολιτών μας. . \nΔιεύθυνση χορωδίας: Δρ. Ντέηβιντ Κράυσλερ\, Συνοδεία στο πιάνο:  Μπρόνγουιν Έντουαρντς. \nΚατά τη διάρκεια της περιοδείας τους στην Ελλάδα\, τα μέλη της χορωδίας θα έχουν την ευκαιρία να μοιραστούν την αγάπη τους για τη μουσική με το ελληνικό κοινό\, παρουσιάζοντας ένα ποικίλο πρόγραμμα που περιλαμβάνει θρησκευτικούς ύμνους\, σπιρίτσουαλς\,  αλλά και παραδοσιακά αμερικανικά τραγούδια. Έξι συναυλίες σε διάφορες πόλεις της Ελλάδας\, θα προσφέρουν στους μουσικόφιλους μια μοναδική εμπειρία. \nΌσοι τυχεροί θα βρεθούν το Σάββατο 28 Σεπτεμβρίου 2024 και ώρα 20.00 στο Δημοτικό Ωδείο Λάρισας θα απολαύσουν ένα μαγικό ταξίδι\, που σπάνια συναντά κανείς\, σε χορωδιακά σχήματα. Ήδη\, η συναυλία παρουσιάστηκε στην Αθήνα το περασμένο Σάββατο 21/9/2024 \, με εξαιρετική επιτυχία \,που «μάγεψε» τους εκατοντάδες φίλους της χορωδιακής μουσικής  που έσπευσαν να την παρακολουθήσουν. \n  \nΛίγα λόγια για τον Μουσικό Διευθυντή Δρ. Ντέιβιντ Κράυσλερ   \n  \nΟ Δρ. Ντέιβιντ Κράυσλερ ανέλαβε την καλλιτεχνική διεύθυνση της Χορωδίας Εργαζομένων Boeing το 2010 καθώς το σχήμα έμπαινε στην έβδομη δεκαετία της ύπαρξής του. \nΓια περισσότερα από 30 χρόνια ο Δρ. Κράυσλερ υπηρέτησε ως μουσικός διευθυντής χορωδιών στην Καλιφόρνια\, το Όρεγκον και την Ουάσινγκτον\, διευθύνοντας ένα ευρύ φάσμα ρεπερτορίου\, συμπεριλαμβανομένου ενός μεγάλου αριθμού χορωδιακών-ορχηστρικών αριστουργημάτων. \nΓεννήθηκε στο Πόρτλαντ και σπούδασε στο Πανεπιστήμιο του Ειρηνικού. Κατά τη διάρκεια της παραμονής του στην Καλιφόρνια\, απέκτησε Μάστερ και Διδακτορικό στη Μουσική από το Πανεπιστήμιο της Νότιας Καλιφόρνια και ήταν διευθυντής της Los Cancioneros Master Chorale\, της Marymount Palos Verdes Symphony και βοηθός διευθυντής της χορωδίας περιοδειών USC Concert  Choir. \nΟ ο Δρ. Κράυσλερ εργάστηκε στην εταιρεία Puget Sound Energy για είκοσι χρόνια\, ως μέλος μιας μικρής ομάδας που υποστήριζε τα συστήματα υπολογιστών διαχείρισης ενέργειας. Συνταξιοδοτήθηκε πρώιμα το 2010 προκειμένου να αφιερώσει περισσότερο χρόνο στη μουσική.  \nΓια περισσότερες πληροφορίες: Αναστάσιος Στρίκος   E–Mail: tassos108@gmx.net \n  \nΕπιμέλεια επικοινωνίας  \nΔίκτυο «Περραιβία» \nΚΩΝ. ΣΚΡΙΑΠΑΣ \n  \nΗμερομηνία και ώρα: Σάββατο 28 Σεπτεμβρίου 2024\, 20.00 \nΤοποθεσία: Δημοτικό Ωδείο Λάρισας \nΕίσοδος ελεύθερη!
URL:https://hotels-larissa.gr/event/mia-spania-synavlia-sto-dimotiko-odeio-larisas-apo-ti-chorodia-ton-ypallilon-tis-boeing/
LOCATION:Δημοτικό Ωδείο Λάρισας\, Λάρισα
CATEGORIES:Συναυλίες
ATTACH;FMTTYPE=image/jpeg:https://hotels-larissa.gr/wp-content/uploads/2024/09/ΦΩΤΟ-ΧΟΡΩΔΙΑΣ-1.jpg
END:VEVENT
BEGIN:VEVENT
DTSTART;TZID=Europe/Moscow:20250710T210000
DTEND;TZID=Europe/Moscow:20250813T233000
DTSTAMP:20260425T164119
CREATED:20250618T081630Z
LAST-MODIFIED:20250618T081808Z
UID:10000062-1752181200-1755127800@hotels-larissa.gr
SUMMARY:Φεστιβάλ Από τον Όλυμπο στο Κύμα 2025
DESCRIPTION:ΦΕΣΤΙΒΑΛ ΑΠΟ ΤΟΝ ΟΛΥΜΠΟ ΣΤΟ ΚΥΜΑ 2025 – ΠΕΡΙΦΕΡΕΙΑ ΘΕΣΣΑΛΙΑΣ \nΤο Φεστιβάλ αυτό με έμφαση στην σύγχρονη νεανική μουσική\, χτίζει το τοπικό αλλά και συμβολικό αφήγημα της Θεσσαλίας ως ενιαίου χώρου που συνδέει τον εμβληματικό Όλυμπο από τη μεριά της Ελασσόνας\, με τα Τέμπη και το Αιγαίο. \nΑυτή η φυσική διαδρομή από τον Όλυμπο στα Τέμπη επανασημασιοδοτεί τη μυθική Θεσσαλία των Θεών και των Περιηγητών. \nΤο Φεστιβάλ πραγματοποιείται σε τοπόσημα της Λάρισας όπως η Δημοτική Πινακοθήκη\, Μουσείο Γ. Κατσίγρα και το Πάρκο των Χρωμάτων\, επαναπροικοδοτεί και συστήνει ως τόπο πολιτισμού την Αθηνά Κανάου της Ελασσόνας – ένα σπουδαίο βιομηχανικό χώρο – και φτάνει στον Αγιόκαμπο και το Καστρί Λουτρό\, στο Θεσσαλικό Αιγαίο. \nΔείτε το πρόγραμμα των εκδηλώσεων εδώ. \nΕίσοδος Ελεύθερη!
URL:https://hotels-larissa.gr/event/festival-apo-ton-olybo-sto-kyma-2025/
CATEGORIES:Συναυλίες
ATTACH;FMTTYPE=image/png:https://hotels-larissa.gr/wp-content/uploads/2025/06/ΦΕΣΤΙΒΑΛ-ΑΠΟ-ΤΟΝ-ΟΛΥΜΠΟ-ΣΤΟ-ΚΥΜΑ-2025.png
END:VEVENT
BEGIN:VEVENT
DTSTART;TZID=Europe/Moscow:20250802T210000
DTEND;TZID=Europe/Moscow:20250802T230000
DTSTAMP:20260425T164119
CREATED:20250618T083354Z
LAST-MODIFIED:20250618T085552Z
UID:10000064-1754168400-1754175600@hotels-larissa.gr
SUMMARY:Bloody Hawk\, 12ος Πίθηκος\, Χαρά | Φεστιβάλ Από τον Όλυμπο στο Κύμα
DESCRIPTION:ΠΑΛΙΑ ΚΑΠΝΑΠΟΘΗΚΗ\, ΕΛΑΣΣΟΝΑ \n2 Αυγούστου 2025 | 9.00μ.μ. \nΟ Bloody Hawk γεννήθηκε στη Ξάνθη και ξεκίνησε την καριέρα του το 2012 στην ηλικία των 16 ετών. Αποτελεί μία από αυτές τις περιπτώσεις καλλιτεχνών που ωριμάζουν στον χρόνο\, ακμάζουν\, μεγαλώνουν σε δημοτικότητα και καλλιτεχνικό εκτόπισμα\, χωρίς όμως να χάσουν την επαφή με την πρώτη ύλη\, πάνω στην οποία αμείλικτα τα πρώτα τους βήματα. \nΛάτρης της παλιάς ραπ σχολής\, εργατικός όσο λίγοι\, παρά τη μεγάλη του επιτυχία\, παρέμεινε το “παιδί της διπλανής πόρτας”. Η λυρικότητα\, ο ρεαλισμός\, το πάθος και η ενδυνάμωση είναι μερικά από τα κύρια στοιχεία που χαρακτηρίζουν τα τραγούδια και την ταυτότητά του. \nΜε 5 πλήρεις δισκογραφικές δουλειές\, αρακάριστά sold out shows σε στάδια και θέατρα\, σε Ελλάδα και Κύπρο\, αλλεπάλληλες βραβεύσεις και πολυάριθμες δράσεις κοινωνικής ευθύνης\, αλλά και την πρόσφατη είσοδό τους στις κινηματογραφικές αίθουσες με το υπερπενταψήφιο βιογραφικό ντοκιμαντέρ “ΕΜΕΙΣ: Μια Ταινία για τον Bloody Hawk”\, ο ράπερ από την Ξάνθη έχει καταφέρει να εδραιωθεί επάξια ως ένας από τους πιο αυθεντικούς εκπροσώπους\, αλλά και έναν από τους μεγαλύτερους σε δημοτικότητα και αποδοχή Έλληνες καλλιτέχνες\, ανεξαρτήτως σκηνής και μουσικού είδους. \nΟ 12ος  Πίθηκος αποτελεί έναν από τους πιο σημαντικούς εκπροσώπους της ελληνικής hip-hop σκηνής. Μετά από 20 χρόνια επιτυχημένης πορείας συνεχίζει να καινοτομεί και να εντυπωσιάζει με εκρηκτικές ζωντανές εμφανίσεις που τον διατηρούν στην κορυφή του εγχώριου rap game. \nΣτο απόγειο της καλλιτεχνικής του εξέλιξης 2024\, συμμετείχε στο red bull συμφωνεί μια πρωτοποριακή σύμπραξη στην οποία η ραπ συνάντησε τη συμφωνική μουσική. Στη συναυλία που πραγματοποιήθηκε στο Μέγαρο Μουσικής Αθηνών ο 12ος  Πίθηκος μαζί με την ορχήστρα σύγχρονης μουσικής της ΕΡΤ υπό τη διεύθυνση του Γιώργου Αραβίδη παρουσίασε μια ανεπανάληπτη μουσική εμπειρία που άφησε το δικό της στίγμα στην ραπ μουσική. \nΜε σκηνική παρουσία που κάνει αίσθηση και straightforward κοινωνικό στίχο που αγγίζει η Xαρά ακολουθεί μια ανοδική πορεία στο rap game εδώ και 4 περίπου χρόνια αν και έγραψε το πρώτο rap της\, μόλις 14 ετών. Έχει μόλις κυκλοφορήσει το ντεμπούτο full album της με τίτλο “Sin City”\, το οποίο παρουσιάζει αυτήν την περίοδο ζωντανά σε σκηνές ανά την Ελλάδα με μεγάλη επιτυχία. \nΔείτε το πρόγραμμα των εκδηλώσεων του Φεστιβάλ εδώ. \nΕίσοδος Ελεύθερη!
URL:https://hotels-larissa.gr/event/bloody-wawk-festival-apo-ton-olybo-sto-kyma/
LOCATION:Παλιά Καπναποθήκη\, Ελασσόνα
CATEGORIES:Συναυλίες
ATTACH;FMTTYPE=image/png:https://hotels-larissa.gr/wp-content/uploads/2025/06/Ανώνυμο-σχέδιο-1.png
END:VEVENT
BEGIN:VEVENT
DTSTART;TZID=Europe/Moscow:20250809T210000
DTEND;TZID=Europe/Moscow:20250809T230000
DTSTAMP:20260425T164119
CREATED:20250618T085515Z
LAST-MODIFIED:20250618T085603Z
UID:10000065-1754773200-1754780400@hotels-larissa.gr
SUMMARY:Δημήτρης Παπαδημητρίου | Φεστιβάλ Από τον Όλυμπο στο Κύμα
DESCRIPTION:ΔΗΜΟΤΙΚΗ ΠΙΝΑΚΟΘΗΚΗ ΜΟΥΣΕΙΟ Γ. ΚΑΤΣΙΓΡΑ\, ΛΑΡΙΣΑ \n9 Αυγύστου 2025 | 9.00μ.μ. \nΟ συνθέτης Δημήτρης Παπαδημητρίου θα διευθύνει επί σκηνής μια ορχήστρα με εξαίρετους μουσικούς και επί σειρά ετών συνεργάτες του. Ο συνθέτης θα βρίσκεται επί σκηνής και θα διευθύνει την ορχήστρα\, τραγουδούν οι Βερόνικα Δαβάκη\, ο γιώργος Φλωράκης και ο Πάνος Παπαϊωάννου. \nΔείτε το πρόγραμμα των εκδηλώσεων του Φεστιβάλ εδώ. \nΕίσοδος Ελεύθερη!
URL:https://hotels-larissa.gr/event/dimitris-papadimitriou-festival-apo-ton-olybo-sto-kyma/
LOCATION:Δημοτική Πινακοθήκη Λάρισας – Μουσείο Γ. Ι. Κατσίγρα\, Λάρισα
CATEGORIES:Συναυλίες
ATTACH;FMTTYPE=image/png:https://hotels-larissa.gr/wp-content/uploads/2025/06/Στιγμιότυπο-οθόνης-2025-06-18-115426.png
END:VEVENT
BEGIN:VEVENT
DTSTART;TZID=Europe/Moscow:20250812T210000
DTEND;TZID=Europe/Moscow:20250812T233000
DTSTAMP:20260425T164119
CREATED:20250618T091431Z
LAST-MODIFIED:20250618T093742Z
UID:10000067-1755032400-1755041400@hotels-larissa.gr
SUMMARY:Μανώλης Φάμελλος\, Δώρος Δημοσθένους - Αλέξανδρος Τσιωνάς - 1. VOLTA | Φεστιβάλ Από τον Όλυμπο στο Κύμα
DESCRIPTION:ΚΑΣΤΡΙ ΛΟΥΤΡΟ\, ΔΗΜΟΣ ΤΕΜΠΩΝ \n12 Αυγούστου 2025 | 9.00μ.μ. \n  \n“Με ελαφριά καρδιά” \nΈνα ρετρό μουσικό πανόραμα με τους Μανώλη Φάμελλο και Δώρο Δημοσθένους. \nΤο «Με ελαφριά καρδιά» είναι ένα επικολυρικό και όμως εορταστικό βεριετέ – ένα τρυφερό ρομάντζο και μαζί ένα πανηγυρικό υπερθέαμα με επικεφαλής δύο ερμηνευτές που αγαπούν να παίζουν και να τραγουδούν παρέα… \nΌπως και το ομώνυμο μελόδραμα του Μανώλη που κυκλοφόρησε πρόσφατα στη δισκογραφία σε δύο πράξεις μάλιστα\, η παράσταση είναι μια μικρή κιβωτός του χρόνου γεμάτη τραγούδια του μεσοπολέμου και όχι μόνο\, διασκευασμένα με μεράκι αλλά και άγνοια κινδύνου από σύγχρονα και ανακυκλωμένα υλικά. \n  \n“Να γελάς” \nΟ γνωστός και πολυαγαπημένος Λαρισαίος ερμηνευτής Αλέξανδρος Τσιωνάς ετοίμασε 8 καινούργια τραγούδια που αγγίζουν την ψυχή με τίτλο «Να γελάς». Μετά την συνεργασία του με τον συνθέτη Χρήστο Λεοντή στον δίσκο «Φλόγα που καίει» επιστρέφει\, τώρα πια και με την ιδιότητα του συνθέτη με δικές του δημιουργίες σε στίχους του Κωνσταντίνου Χρυσανθάκη και Δημήτρη Τσιλινίκου. \nΜια δουλειά ερωτική προσωπική ξεχωριστή και προσεγμένη σε όλα τα επίπεδα. \nΘα τραγουδήσει δικά του τραγούδια καθώς και κάποια αγαπημένα τραγούδια από την Ελληνική δισκογραφία. \n  \n1.volta \n1.volta ονομάζεται το σύνολο 15 τραγουδιών σε μουσική Βιργινίας Καραγιώργου και στίχους Παναγιώτη Μπλιάκα και Μακάριου Σιγάλα. \nΟι κύριοι ερμηνευτές της 1.volta είναι οι: Αμαλία Σδρόλια\, Γιάννης Λίταινας\, Θάνος Καλαμπάκας και η ίδια η σύνθετης. \nΠρόκειται για τραγούδια με μοναδικό χαρακτήρα που σύμφωνα με τη συνθέτη επιχειρείται να αποτυπωθεί το προσωπικό της ύφος με επιρροές από κλασσικά ακούσματα από το έντεχνο\, λαϊκό και παραδοσιακό τραγούδι\, επιθυμεί να δημιουργήσει αληθινά και γνήσια τραγούδια που χαρακτηρίζονται από την ταπεινή φόρμα\, την απλότητα και τη λαϊκότητά τους. \nΣκοπός αυτής της ιερής υπόθεσης είναι να δημιουργηθούν τραγούδια που θα εκφράσουν τους ανθρώπους και θα τους κάνουν να ακουμπήσουν την ευαισθησία τους σε αυτά. Οι στίχοι γοητεύουν και υπογράφονται από τους Παναγιώτη Μπαλιάκα και Μακάριο Σιγάλα. \nΝικόλας Έξαρχος | πιάνο \nΓιάννης Λίταινας | ερμηνεία – λαούτο \nΘάνος Καλαμπάκας | ερμηνεία – κιθάρα \nΑμαλία Σδρόλια | ερμηνεία \nΒιργινία Καραγιώργου | ερμηνεία – πιάνο \n  \nΔείτε το πρόγραμμα των εκδηλώσεων του Φεστιβάλ εδώ. \nΕίσοδος Ελεύθερη!
URL:https://hotels-larissa.gr/event/manolis-famellos-doros-dimosthenous-festival-apo-ton-olybo-sto-kyma/
LOCATION:Καστρί Λουτρό
CATEGORIES:Συναυλίες
ATTACH;FMTTYPE=image/png:https://hotels-larissa.gr/wp-content/uploads/2025/06/Ανώνυμο-σχέδιο-4.png
END:VEVENT
BEGIN:VEVENT
DTSTART;TZID=Europe/Moscow:20250813T210000
DTEND;TZID=Europe/Moscow:20250813T233000
DTSTAMP:20260425T164119
CREATED:20250618T094449Z
LAST-MODIFIED:20250618T094449Z
UID:10000068-1755118800-1755127800@hotels-larissa.gr
SUMMARY:Γιώργος Δημητριάδης\, Κώστας Μπουντούρης - Jukebox | Φεστιβάλ Από τον Όλυμπο στο Κύμα
DESCRIPTION:ΚΑΣΤΡΙ ΛΟΥΤΡΟ\, ΔΗΜΟΣ ΤΕΜΠΩΝ \n13 Αυγούστου 2025 | 9.00μ.μ. \n  \nΚάποια στιγμή οι πορείες θα διασταυρώνονται αναπόφευκτα οι τροχαίες θα γίνονται παράλληλες μοιραία μέσα από τη φιλία αρχικά και κατόπιν μέσα από την συνεπακόλουθη συνεργασία αυτών των 2 αφοσιωμένων «μουσικανθρώπων»\, αφενός του Γιώργου Δημητριάδη που μετρά δεκαετίες πλέον ενεργούς δισκογραφίες ως τραγουδοποιός και ερμηνευτής των διαχρονικών του τραγουδιών και επιτυχιών όπως το σαν να μην πέρασε μια μέρα\, όσα μου έχεις χαρίσει\, Ξύπνα! Φτάσαμε\, όλα αλλάζουν\, Σάββατο\, αττικόν blues\, τι να σκεφτώ\, όσα είναι αληθινά\, απ’ το μηδέν\, όλοι καλά\, Οδύσσεια και μη νομίζεις για να αναφέρουμε μερικά. \nΚαι αφετέρου τώρα μαζί με τον Κώστα Μπουντούρη\, τον νέο τραγουδοποιό και παράλληλα εξαιρετικό παραγωγό και ενορχηστρωτή που ανέλαβε την παραγωγή του πιο πρόσφατου άλμπουμ του Δημητριάδη «Οδός Ριανκούρ» \n  \nΟι Jukebox δημιουργήθηκαν το 2015 και είναι μια μπάντα που διασκευάζει γνωστά και αγαπημένα τραγούδια (cover band) με έδρα τα Τρίκαλα μέλη της 3 μουσικοί της πόλης με τις ανάλογες σπουδές και πλούσιο βιογραφικό με συμμετοχές και συνεργασίες με μεγάλα μουσικά σχήματα αλλά και θεατρικά project. \nΟι Jukebox αποτελούνται από τους: \nΚατερίνα Μπαρμπαρούση | φωνή \nΓιάννης Καρακαλπακίδης | κιθάρα \nΒασίλης Σαμαράς | κιθάρα – φωνή \n  \nΔείτε το πρόγραμμα των εκδηλώσεων του Φεστιβάλ εδώ. \nΕίσοδος Ελεύθερη!
URL:https://hotels-larissa.gr/event/giorgos-dimitriadis-kostas-bountouris-jukebox-festival-apo-ton-olybo-sto-kyma/
LOCATION:Καστρί Λουτρό
CATEGORIES:Συναυλίες
ATTACH;FMTTYPE=image/png:https://hotels-larissa.gr/wp-content/uploads/2025/06/Ανώνυμο-σχέδιο-5.png
END:VEVENT
END:VCALENDAR