BEGIN:VCALENDAR
VERSION:2.0
PRODID:-//Larissa - Hoteliers Association - ECPv6.5.1.5//NONSGML v1.0//EN
CALSCALE:GREGORIAN
METHOD:PUBLISH
X-ORIGINAL-URL:https://hotels-larissa.gr
X-WR-CALDESC:Events for Larissa - Hoteliers Association
REFRESH-INTERVAL;VALUE=DURATION:PT1H
X-Robots-Tag:noindex
X-PUBLISHED-TTL:PT1H
BEGIN:VTIMEZONE
TZID:Europe/Moscow
BEGIN:STANDARD
TZOFFSETFROM:+0300
TZOFFSETTO:+0300
TZNAME:MSK
DTSTART:20240101T000000
END:STANDARD
END:VTIMEZONE
BEGIN:VEVENT
DTSTART;TZID=Europe/Moscow:20241128T190000
DTEND;TZID=Europe/Moscow:20241128T210000
DTSTAMP:20260425T163244
CREATED:20241126T074936Z
LAST-MODIFIED:20241126T074936Z
UID:10000056-1732820400-1732827600@hotels-larissa.gr
SUMMARY:«Λάρισα και αρχαιότητες: αναζητώντας τον πλούτο της μητρόπολης της Θεσσαλίας μέσα από τα αρχεία»
DESCRIPTION:Με αφορμή τη συμπλήρωση των εννέα χρόνων λειτουργίας του Διαχρονικού Μουσείου Λάρισας\, η Εφορεία Αρχαιοτήτων Λάρισας διοργανώνει την Πέμπτη 28 Νοεμβρίου 2024 και ώρα 19.00 στον χώρο του Μουσείου εκδήλωση\, ανοιχτή στο κοινό\, με θέμα: «Λάρισα και αρχαιότητες: αναζητώντας τον πλούτο της μητρόπολης της Θεσσαλίας μέσα από τα αρχεία». Θα μιλήσει η Μαρία Σταματοπούλου\, καθηγήτρια του Τομέα Κλασικών Σπουδών στο Lincoln College του Πανεπιστημίου της Οξφόρδης\, σχετικά με τα ευρήματα της αρχαιολογικής έρευνας στη Λάρισα και την ευρύτερη περιοχή της\, από την απελευθέρωση της Θεσσαλίας έως το 1960\, μέσα από την αναδίφηση σε ποικίλο αρχειακό υλικό. Πρόκειται για μια νέα ματιά σε σωζόμενα αρχεία εγγράφων\, φωτογραφιών και σχεδίων\, που φέρνει στο φως τις προσπάθειες προστασίας και ανάδειξης των τοπικών αρχαιοτήτων\, οι οποίες δεν υπήρξαν πάντα απρόσκοπτες ή ακίνδυνες στο πέρασμα των χρόνων. \nΜετά την ομιλία θα ακολουθήσει μουσική συναυλία με τη Ρούλα Πίκουλα και τον Αποστόλη Γιάγκο στο πιάνο\, την οποία διοργανώνει το Αναψυκτήριο του Διαχρονικού Μουσείου. \nΗ συγκεκριμένη εκδήλωση αποτελεί την αφετηρία για σειρά δράσεων της Υπηρεσίας\, που θα πραγματοποιηθούν το 2025\, στο πλαίσιο της συμπλήρωσης 50 χρόνων από την ίδρυσή της. \n  \nΗμερομηνία και ώρα: Πέμπτη 28 Νοεμβρίου 2024\, ώρα 19.00 \nΤοποθεσία: Διαχρονικό Μουσείο Λάρισας
URL:https://hotels-larissa.gr/event/larisa-kai-archaiotites-anazitontas-ton-plouto-tis-mitropolis-tis-thessalias-mesa-apo-ta-archeia/
LOCATION:Διαχρονικό Μουσείο Λάρισας\, Λάρισα
CATEGORIES:Τέχνη
ATTACH;FMTTYPE=image/jpeg:https://hotels-larissa.gr/wp-content/uploads/2024/11/afisa_poster_9-χρόνια-Διαχρονικού-Μουσείου-1α.jpg
END:VEVENT
END:VCALENDAR